BEGIN:VCALENDAR
VERSION:2.0
PRODID:-//Stage-Co - ECPv4.7.3//NONSGML v1.0//EN
CALSCALE:GREGORIAN
METHOD:PUBLISH
X-WR-CALNAME:Stage-Co
X-ORIGINAL-URL:https://stage-co.com
X-WR-CALDESC:Events for Stage-Co
BEGIN:VEVENT
DTSTART;VALUE=DATE:20180913
DTEND;VALUE=DATE:20180914
DTSTAMP:20260415T075610
CREATED:20180904T135807Z
LAST-MODIFIED:20180904T140813Z
UID:2468-1536796800-1536883199@stage-co.com
SUMMARY:#Unconference
DESCRIPTION:After a very successful first edition last December we are ready for the second one. Soon we will post some questions as a survey and you can vote for the question(s) you want to be answered during the #Unconference. At the #Unconference you also have the possibility to add questions. The most voted questions will be answered by the panel. The panel will consist of 2 specalists and 2 people from the audience who voted that question. \nPatrick Bosteels is your host and moderator. All conversations are about the startup scene and in English. \n
URL:https://stage-co.com/event/unconference/
LOCATION:ATÖLYE – Bomontiada – Merkez Mahallesi\, Silahşör Caddesi\, Birahane Sok\, No: 1 Şişli\, Istanbul 34381\, Turkey
ATTACH;FMTTYPE=image/png:https://stage-co.com/wp-content/uploads/2018/09/unconference.png
END:VEVENT
END:VCALENDAR