BEGIN:VCALENDAR
VERSION:2.0
PRODID:-//Stage-Co - ECPv4.7.3//NONSGML v1.0//EN
CALSCALE:GREGORIAN
METHOD:PUBLISH
X-WR-CALNAME:Stage-Co
X-ORIGINAL-URL:https://stage-co.com
X-WR-CALDESC:Events for Stage-Co
BEGIN:VEVENT
DTSTART;VALUE=DATE:20180802
DTEND;VALUE=DATE:20180806
DTSTAMP:20260414T211328
CREATED:20180629T123343Z
LAST-MODIFIED:20180629T123444Z
UID:2141-1533168000-1533513599@stage-co.com
SUMMARY:Startups\, forget the Valley\, here is Izmir!
DESCRIPTION:Last day to subscribe is 27th of July\, at midnight! \nIn search of the best 15 Startups\, Tech’n Roll is the first edition of an Acceleration Program combined with a Festival! İzmir High Technology Institute (IYTE) and Teknopark İzmir organise a full fletch program for 5 weeks with the support of all local stakeholders. Tech’n Roll will be held in İzmir between 2 and 5 August 2018. The Acceleration Program runs from July the 1st till July the 30th and ends in a Demo Day on the 5th of August. We are very happy as Stage-Co to be the Program Partner. \nParticipation is Free! \nAll info and Subscription here: http://www.technroll.com.tr \nAddress: Gülbahçe Mah.\, İzmir Yüksek Teknoloji Enstitüsü\, 35430 Urla/İzmir\, Turkey \n \n(Turkish) \nKurumsaldan Sonra Hayat Var mı?\nBeyaz Işığın Ötesine Geçenler Anlatıyor\nSöyleşi/Panel\nModerator: Neşen Yücel / Stage-Co kurucusu \nKonuklar: \n\nIşıl Arısoy Kaya – Fotoğraf Bazlı Dijital Sanatçı\nArzu Demirel – Profesyonel Erickson Koçu ACC\, NLP Uzmanı ve Eğitmen\nAyşegül Akşak – ActionCOACH Türkiye Kurucu Ortak\n\nKurumsal yaşamdan ayrılıp\, beyaz yakalarını\, topuklu ayakkabılarını çıkartıp; kolları sıvamış 3 tecrübeli profesyonel ile kendi yollarını çizmek üzere çıktıkları serüvenlerini konuşuyoruz. Kurumsaldan sonra hayat var mı? Peki ya özgürlükler ütopyasında herşey harika mı? B Planlarımızı gözden geçirip\, değişen kurumsal yaşam koşulları ve bizimle birlikte değişen ihtiyaçlarımız ekseninde güzel bir sohbet gerçekleştireceğiz.\nBeyaz ışığın ötesine geçebilenler anlatacak\, tecrübelerini paylaşacak biz de Joint Idea’nın harika atmosferinde onları dinleyip\, sorularımızı yöneltecek ve eve birbirimizden ilham almış olarak döneceğiz.\nEtkinliğimiz ücretsizdir\, lütfen kayıt olunuz.\nGörüşmek üzere! \nhttps://kurumsaldansonrahaziran.eventbrite.com \n
URL:https://stage-co.com/event/startups-forget-the-valley-here-is-izmir/
ATTACH;FMTTYPE=image/png:https://stage-co.com/wp-content/uploads/2018/06/ızmir.png
END:VEVENT
END:VCALENDAR