BEGIN:VCALENDAR
VERSION:2.0
PRODID:-//Stage-Co - ECPv4.7.3//NONSGML v1.0//EN
CALSCALE:GREGORIAN
METHOD:PUBLISH
X-WR-CALNAME:Stage-Co
X-ORIGINAL-URL:https://stage-co.com
X-WR-CALDESC:Events for Stage-Co
BEGIN:VEVENT
DTSTART;VALUE=DATE:20180322
DTEND;VALUE=DATE:20180323
DTSTAMP:20260413T174148
CREATED:20180904T085907Z
LAST-MODIFIED:20180904T090417Z
UID:2285-1521676800-1521763199@stage-co.com
SUMMARY:Startuplar için Mentörlüğe Giriş
DESCRIPTION:Startuplar için Mentörlüğe Giriş\nBana ne zaman gelecek vadeden bir iş insanını neyin başarıya taşıyacağını sorduklarında\, aklıma hemen mentörlük gelir. – Richard Branson\, Virgin. \nMentörler Startup ve girişimcilik ekosisteminin en önemli parçalarından biri olmakla beraber genellikle ilk sırada akla gelmezler. Mentörlük eğitimi hem çok sayıda başarılı startup kurulması hem de büyük kurumlardaki kurum içi girişimciliğin gelişimi için son derece önemlidir. Türkiye’de tecrübeli\, konusuna ve ekosisteme hakim mentörler\, hem yatırımcılar hem de startuplar tarafından giderek daha çok talep görmektedir. \nYatırımcılar tarafından verilen mentörlük desteğinin yeterli olduğu yaygın bir düşüncedir ancak yatırımcılık ve mentörlük birbirinden ayırt edilmesi gereken kavramlardır. Mentörlerin tecrübe ve networkten daha fazlasına sahip olması gerektiği düşüncesi doğrultusunda hazırlanmış bu atölyede; iyi bir mentörün sahip olması gereken özellikleri beraber tartışabilir\, dünyada mentörlüğün nasıl yapıldığını başarılı örneklerle görebilirsiniz. Startup ekosistemine göz atarken\, ölçülebilir sonuçlarla başarılı bir mentör ve mentee olmak için ilk adımı atabilirsiniz. \nBu atölye Patrick Bosteels tarafından İngilizce olarak gerçekleştirilecektir. \n
URL:https://stage-co.com/event/startuplar-icin-mentorluge-giris/
LOCATION:BUMED
ATTACH;FMTTYPE=image/png:https://stage-co.com/wp-content/uploads/2018/09/576x432_0-11.png
END:VEVENT
END:VCALENDAR