BEGIN:VCALENDAR
VERSION:2.0
PRODID:-//Stage-Co - ECPv4.7.3//NONSGML v1.0//EN
CALSCALE:GREGORIAN
METHOD:PUBLISH
X-WR-CALNAME:Stage-Co
X-ORIGINAL-URL:https://stage-co.com
X-WR-CALDESC:Events for Stage-Co
BEGIN:VEVENT
DTSTART;TZID=UTC+0:20180628T143000
DTEND;TZID=UTC+0:20180628T163000
DTSTAMP:20260418T221834
CREATED:20180626T081631Z
LAST-MODIFIED:20180626T082824Z
UID:2095-1530196200-1530203400@stage-co.com
SUMMARY:Mentorship for Startups By Patrick Bosteels
DESCRIPTION:“Mentorship for Startups By Patrick Bosteels”\, Joint Idea Kanyon’da sizlerle… \n“Patrick Bosteels tarafından İngilizce olarak verilecektir. \nBana ne zaman gelecek vadeden bir iş insanını neyin başarıya taşıyacağını sorduklarında\, aklıma hemen mentörlük gelir. Richard Branson\, Virgin. \nMentörler Startup ve girişimcilik ekosisteminin en önemli parçalarından biri olmakla beraber genellikle çok ön planda akla gelmezler.  Stage-Co Masters Startup Akademi olarak\, Mentörlük Atölyesini tekrar sunmaktan dolayı sevinçliyiz. Stage-co olarak hem daha çok sayıda başarılı startup olması için\, hem de büyük kurumlardaki kurumiçi girişimcilik için mentörlüğün önemine inanıyoruz. Türkiye’de tecrübeli\,  konusuna ve ekosisteme hakim mentörlerin hem yatırımcılar\, hem de startuplar tarafından giderek daha çok talep göreceğine inanıyoruz. \nİyi bir mentörün\, tecrübe ve networkten daha fazlasına sahip olması gerektiğine inandığımız için bu giriş atölyesini hazırladık. Bir araya gelip\, iyi bir mentörün sahip olması gereken özellikleri beraber tartışalım\, dünyada nasıl yapılıyor\, örneklerini görelim\, Startup Ekosistemine göz atalım ve ölçülebilir sonuçlarla başarılı bir mentör ve mentee olmak için ilk adımı atalım.” \nBiletinizi bir an önce buradan alabilirsiniz. \n
URL:https://stage-co.com/event/mentorship-for-startups-by-patrick-bosteels/
LOCATION:Joint Idea Kanyon
ATTACH;FMTTYPE=image/png:https://stage-co.com/wp-content/uploads/2018/06/mentorship.png
END:VEVENT
END:VCALENDAR