BEGIN:VCALENDAR
VERSION:2.0
PRODID:-//Stage-Co - ECPv4.7.3//NONSGML v1.0//EN
CALSCALE:GREGORIAN
METHOD:PUBLISH
X-WR-CALNAME:Stage-Co
X-ORIGINAL-URL:https://stage-co.com
X-WR-CALDESC:Events for Stage-Co
BEGIN:VEVENT
DTSTART;VALUE=DATE:20180322
DTEND;VALUE=DATE:20180323
DTSTAMP:20260420T110753
CREATED:20180904T090134Z
LAST-MODIFIED:20180904T090502Z
UID:2287-1521676800-1521763199@stage-co.com
SUMMARY:Lean Startup Atölyesi
DESCRIPTION:Lean Startup Atölyesi\nKendi işinizi kurmak için ilk adımı atın. B Planınızı A Planınız yapın. \nYeni bir iş kurmak veya çalıştığınız kurumda yeni bir ürün veya hizmeti piyasaya sürmek bolca deneme/yanılma gerektirir. Bazen başarısızlıkların faturası çok yüksek olabilir. Başarılı bir girişimde bulunma şansınızı artırmak için çok basit bir metodolojiyi takip etmeye ne dersiniz? \nStartup dünyasında çok yaygın olarak kullanılan Yalın Girişim\, İş Modeli Kanvası ve Patrick Bosteels tarafından geliştirilen Fikir Kanvası (Ideathon Canvas) üzerinde çalışarak girişiminizi detayları ile ele alın. Her zaman teoride konuşulanları beraber kağıda dökelim\, iş modelinizi inceleyelim ve başarıya giden yol için bir adım atalım. İş fikrinizle bize katılın ve verimli bir akşam geçirmeye hazır olun! \nBu atölye Patrick Bosteels tarafından İngilizce olarak gerçekleştirilecektir. Hem startuplar hem de kurumiçi girişimcilik ile ilgilenen kişilerin faydalanabileceği bir içeriktedir. \n
URL:https://stage-co.com/event/lean-startup-atolyesi/
LOCATION:BUMED
ATTACH;FMTTYPE=image/png:https://stage-co.com/wp-content/uploads/2018/09/patrick-lean-startup-V2-1.png
END:VEVENT
END:VCALENDAR