BEGIN:VCALENDAR
VERSION:2.0
PRODID:-//Stage-Co - ECPv4.7.3//NONSGML v1.0//EN
CALSCALE:GREGORIAN
METHOD:PUBLISH
X-WR-CALNAME:Stage-Co
X-ORIGINAL-URL:https://stage-co.com
X-WR-CALDESC:Events for Stage-Co
BEGIN:VEVENT
DTSTART;VALUE=DATE:20181012
DTEND;VALUE=DATE:20181015
DTSTAMP:20260418T135507
CREATED:20180920T121303Z
LAST-MODIFIED:20180926T141507Z
UID:2753-1539302400-1539561599@stage-co.com
SUMMARY:Girişimcilik Yarışması Startup Weekend Güney Marmara 2 Şimdi Çanakkale’de!
DESCRIPTION:Girişimcilik Yarışması Startup Weekend Güney Marmara 2 Şimdi Çanakkale’de!\nGirişimciliğe ilk adım için tüm dünyada takip edilen ve pek çok startup’ın tohumlarının atıldığı Girişimcilik Yarışması Startup Weekend 12-13-14 Ekim tarihlerinde\, Güney Marmara Kalkınma Ajansı (GMKA) desteğiyle gerçekleşiyor. \nGüney Marmara Kalkınma Ajansı’nın düzenlediği 2. Startup Weekend etkinliği olarak; bölgedeki girişimciliğe duyulan ilgiyi arttırmayı\, girişimcilerin iş kurma\, iş modeli oluşturma ve iş modelini doğru şekilde sunma konusunda bilgi edinmesini ve girişimcilik farkındalığını yaratmayı hedefliyor. \nBalıkesir Üniversitesi\, Bandırma Onyedi Eylül Üniversitesi ve Çanakkale Onsekiz Mart Üniversitesi öğrencileri\, fikrinizi\, ekip arkadaşınızı kapın gelin! Yarışmak için Hemen Başvurun! \nHer hafta dünyanın farklı kentlerinde düzenlenmekte olan Startup Weekend organizasyonları\, gençlerin ekipler kurarak\, iş fikirlerini bu 3 günlük maratonda alacakları mentörlük ve eğitim desteğiyle geliştirdiği\, jüriye sunum yaparak yarıştığı ve dereceye girenlerin ödüllendirildiği girişimcilik yarışmasıdır. \nÖDÜLLER: \nTüm girişimcilik yarışmaları gibi\, Startup Weekendlerde de en büyük ödül\, bu yoğunlaştırılmış program ile kazanılan bilgi\, iş fikrini test etme ve ekip çalışması deneyiminin\, gelecekte kurulacak girişimler için hazırladığı alt yapıdır. Ancak Güney Marmara Kalkınma Ajansı organizasyonu ile gerçekleşen bu yarışmada\, kazanan ekiplere para ödülü de verilecektir. \n1.  Ekibe 3000 TL \n2.  Ekibe 2000 TL \n3.  Ekibe 1000 TL \nPara ödülü\, ödüle hak kazanan ilgililerin şahsi banka hesaplarına\, GMKA tarafından aktarılacaktır. \nMerak ettikleriniz: \nKimler Katılabilir? \n18 yaşını doldurmuş\, Balıkesir Üniversitesi\, Bandırma Onyedi Eylül Üniversitesi ve Çanakkale Onsekiz Mart Üniversitesi’nde okuyan her öğrenci başvurabilir.  Bölüm\, Fakülte sınırlaması yoktur. \nBaşvuru \nEtkinliğe başvuru için başvuru formunun tam ve eksiksiz olarak doldurulması\, kuralların kabul edilmesi gereklidir. Katılımı onaylanan kişilere email veya telefon yoluyla ulaşılacaktır. Başvuruların 10 Ekim 2018 gün sonuna dek tamamlanması gereklidir. \n  \nBaşvurabilmek İçin Fikrim veya Grubum Olmalı mı? \nStartup Weekend’e katılmak için ister fikrinizle tek başınıza isterseniz ekip arkadaşınızla başvurabilirsiniz. Tüm başvurular doldurulan form üzerinden değerlendirilecektir.  Oluşturulan ekipler minimum 3 kişi\, maksimum 6 kişi olmalıdır. Önemli olan daha önceden gerçekleştirilmiş ya da geliştirme aşamasında olan bir fikirle yarışmamak. \nEtkinlik Dili ve Sunumlar \nEtkinlik dili İngilizce ve Türkçe olacaktır. Jüri sunumları Türkçe olarak\, 3 dakika\, soru cevap ise 2 dakika olacaktır. \nKonaklama ve Ulaşım \nBaşvurular arasından seçilen katılımcıların\,  12-13 Ekim geceleri etkinliğin gerçekleşeceği Dardanos Yerleşkesi Uygulama Oteli’ndeki konaklamaları ve oteldeki 3 öğün yemekleri GMKA tarafından karşılanacaktır. \nDileyen katılımcılar otel dışında kendi seçtikleri yerde veya evlerinde kalabilirler. Ancak etkinlik programına tam olarak katılım gereklidir\, çalışma saatlerinde Dardanos Yerleşkesi Uygulama Oteli’nde bulunmayan ekipler diskalifiye olurlar. \nAşağıda belirtilen noktalardan ücretsiz servisler kaldırılacaktır. (Servis saatleri daha sonra bu sayfada ilan edilecektir.) \n12 Ekim Cuma \nÇanakkale Onsekiz Mart Üniversitesi Terzioğlu Yerleşkesi Ana Giriş Kapısı Önü \nBandırma Onyedi Eylül Üniversitesi  Merkez Yerleşkesi Ana Girişi Kapısı Önü \nBalıkesir Güney Marmara Kalkınma Ajansı Önü \n14 Ekim Pazar \nDardanos Yerleşkesi Uygulama Oteli (Servisler Balıkesir\, Bandırma ve Çanakkale’ye\, servis hareket noktalarına gidecektir.) \nPROGRAM \nProgram daha sonra bu sayfada ilan edilecektir. \n12 Ekim Cuma \n17.30 Kapı açılır\, networking zamanı \n18.00 Akşam yemeği \n19.00 Stage-Co açılış konuşması \n19.05 Güney Marmara Kalkınma Ajansı konuşması \n19.30 Isınma: Half Baked \n21.00 İş fikri sunumları ve oylama \n21.15 Ekip oluşturması ve fikir paylaşımı \n22.00 Lean Startup/ Yalın Girişim Eğitimi ( Patrick Bosteels ) \n22.30 Çalışmaya başla! \n13 Ekim Cumartesi \n09.00 Kahvaltı \n09.30 Ekipler çalışmaya devam eder. \n12.30 Öğle yemeği \n13.00 Mentörler için eğitim\, ekipler çalışmaya devam ederler. \n14.00 Mentörler ekipler ile buluşup\, projelerine yardımcı olmaya başlar. (Bütün ekiplere mentör desteği almaları tavsiye edilir.) \n19.15 Akşam yemeği \n20.00 Jüri sunumu için eğitim \n14 Ekim Pazar \n09.00 Kahvaltı \n10.00 Mentörlerle veya ekip halinde çalışmaya devam \n11.00 Sunum hazırlıkları için Stage-Co ile çalışma \n12.30 Öğle yemeği \n16.00 Ekipler projelerini jüriye sunmaya başlarlar. \n17:30 Ödül töreni ve kapanış \n18.00 Akşam yemeği \n19:00 Servis hareket saati \nKURALLAR \n\nStartup Weekend boyunca yarışma sadece takımlar düzeyinde olacaktır. Her katılımcı etkinlikte görev almak için sadece tek bir başvuru yapabilir ve sadece bir takımda yer alabilir. Takımlar en az 3\, en fazla 6 katılımcıdan oluşabilir. Aynı takımdan tüm katılımcıların ayrı ayrı kayıt yaptırması gereklidir.\nKatılımcılar\, kendileriyle ilgili tam ve doğru bilgi vermekle yükümlüdürler. Yanlış veya eksik katılımcı kayıt bilgileri\, organizasyon ekibi tarafından başvuru iptali ve kazanılacak ödülün iptaline sebep olabilir. Startup Weekend’e katılabilmek için organizasyon ekibi tarafından başvurunun ön eleme sonra onaylanması ve kabul edilmesi gerekir.\nEtkinlik için son başvuru tarihi 10 Ekim 2018’dir.\nEtkinliğin tam süresi boyunca Wi-Fi bağlantısı sağlanacaktır. Katılımcılar\, kendi ekipmanlarını(özellikle bilgisayar\, uzatma kablo\, çoklu güç çıkışı vs.) ve geliştirme araçlarını getireceklerdir. Katılımcılar etkinlik sırasında kendi ekipmanlarından sorumlu olacaklardır.\nKatılımcılar\, yarıştıkları projenin; özgün\, münhasıran kendisi tarafından ve Startup Weekend etkinliği sırasında yaratıldığını kabul\, beyan ve taahhüt eder. Takımlar\, projelerin telif hakkı ve fikri mülkiyet haklarına sahiptirler.\nEtkinlik süresince\, etkinlik mekanı içinde ekiplerin birbiriyle ve çevreyle saygılı çalışması\, toplu yaşam içinde gerekli disiplin kurallarına uyması esastır. Herhangi bir şekilde bu kurallara uymayan ve disiplini bozan katılımcılar diskalifiye edilecektir.\nKatılımcılar\, jüri üyelerinin her birinin bağımsız olduğu ve kararlarının etkilenemeyeceği konusunda bilgilendirilmiş ve bu konuyu açıkça kabul etmişlerdir. Katılımcılar\, jürinin oluşumuna\, karar sürecine veya jüri tarafından alınan karara itiraz etmeyeceklerini etkinliğe katılmaları aracılığıyla açıkça kabul ederler.\nHer bir katılımcı\,  Startup Weekend’de yer almak amacıyla web sitesi üzerinden gerekli kişisel verilerini ( ad\, soyad\, cep telefonu numarası\, özgeçmiş\, e-posta adresi vs.) sağlamayı 6698 sayılı kanun kapsamında açıkça kabul eder ve onaylar. Startup Weekend’e katılan katılımcılara ilişkin kişisel veriler organizasyon tarafından etkinlik sonrasında gerekli görülen süreye kadar muhafaza edilecektir.\nHer bir katılımcı\, organizasyonun; adını\, soyadını\, projesinin tanımını\, ticari reklam ve yurtiçi ve yurtdışı basın toplanışı ve diğer kamuoyu iletişimleri amacıyla organizasyona ait web sitesi  dahil ancak sınırlı olmaksızın kullanılmasına müsaade eder ve organizasyona bu konuda yetki verir. Bu yetkiye etkinlik sırasında alınan fotoğraf\, video ve/veya ses kayıtlarının\, her türlü ortamda\, formatta ve her türlü yöntemle üretilmesi\, kopyalaması ve dağıtması da dahildir.\nKatılımcılar\, projelerinin parçası olarak\, açık kaynak lisansları veya benzerleri çerçevesinde içerikleri kullanırlarsa bu kullanım ve lisanslara uyma konusundaki sorumluluk kendilerine aittir. Her bir katılımcı\, yukarıda belirtilen garantilerin yanlışlığından ve/veya ihlalinden tek başına sorumlu olmayı kabul eder.\nStartup Weekend etik ve adil bir etkinliktir. Katılımcılar\, bu ilkeye saygı göstermeyi taahhüt eder ve diğer takımların çalışmalarını engelleyecek herhangi bir faaliyetin yasak olduğunu açıkça kabul ederler. Organizasyon\, bu ilkelere uymayan ekibi veya katılımcıyı etkinlikten diskalifiye edebilir. Organizasyon etkinlik süresince hile yapan\, rahatsızlık veren veya bu faaliyetlerde bulunma girişiminde bulunan bir katılımcı ve/veya bir ekibe karşı işlem yapma hakkını saklı tutar.\nStartup Weekend Güney Marmara’ya; kayıt\, katılım ve iştirak\, katılımcılar tarafından kuralların kayıtsız şartsız tam kabulünü ifade eder. Kurallar ve koşullar web sitesi üzerinden etkinliğin sonuna kadar (14 Ekim 2018) yayınlanacaktır.\n\n
URL:https://stage-co.com/event/girisimcilik-yarismasi-startup-weekend-guney-marmara-2-simdi-canakkalede/
LOCATION:Çanakkale Onsekiz Mart Üniversitesi Dardanos Yerleşkesi Uygulama Oteli\, Turkey
ATTACH;FMTTYPE=image/jpeg:https://stage-co.com/wp-content/uploads/2018/09/image001-1.jpg
END:VEVENT
END:VCALENDAR