BEGIN:VCALENDAR
VERSION:2.0
PRODID:-//Stage-Co - ECPv4.7.3//NONSGML v1.0//EN
CALSCALE:GREGORIAN
METHOD:PUBLISH
X-WR-CALNAME:Stage-Co
X-ORIGINAL-URL:https://stage-co.com
X-WR-CALDESC:Events for Stage-Co
BEGIN:VEVENT
DTSTART;VALUE=DATE:20180322
DTEND;VALUE=DATE:20180323
DTSTAMP:20260420T123557
CREATED:20180904T090257Z
LAST-MODIFIED:20180904T090257Z
UID:2289-1521676800-1521763199@stage-co.com
SUMMARY:Girişimciler için Satış Teknikleri
DESCRIPTION:Girişimciler için Satış Teknikleri\nArzu Demirel\, Satış Koçu\, EACC\,\nÜrünüzü doğru müşteriye en etkin şekilde satmanın yollarını öğrenin!\nGirişimciler için satış teknikleri\, doğru müşteriyi ürün ile buluşturmada doğru stratejiyi oluşturmayı sağlar. Bu sayede\, kaynakları doğru kullanarak maksimum sonuçlar elde edeb \nilirsiniz. Hedef kitlerinize nasıl satış yapacağınızı bilerek yola çıkmak rekabette sizi ön sıralara taşıyacaktır. \n«İyi ürün her zaman satar» kavramının ötesinde daha neler var? ile ilgili yapılması gerekenleri\, Türkiye ilaç sektöründe 13 yıllık deneyimi ile Satış Koçu Arzu Demirel tarafından gerçekleştirilecek atölye çalışmasındaki bazı alt başlıklar şöyle yer almaktadır: \n-Benim için müşteri kim? \n-Ben müşterime nasıl ulaşırım?\n-Kendimi ve ürünümü nasıl anlatırım? Neler önemli?\nVe daha pek çok konuda önemli ipuçlarını kendi girişiminizde nasıl kullanabileceğinizi öğreneceksiniz. Sizleri bekliyoruz. Sakın kaçırmayın! \n
URL:https://stage-co.com/event/girisimciler-icin-satis-teknikleri/
LOCATION:Habita
END:VEVENT
END:VCALENDAR