BEGIN:VCALENDAR
VERSION:2.0
PRODID:-//Stage-Co - ECPv4.7.3//NONSGML v1.0//EN
CALSCALE:GREGORIAN
METHOD:PUBLISH
X-WR-CALNAME:Stage-Co
X-ORIGINAL-URL:https://stage-co.com
X-WR-CALDESC:Events for Stage-Co
BEGIN:VEVENT
DTSTART;TZID=UTC+0:20190628T160000
DTEND;TZID=UTC+0:20190628T190000
DTSTAMP:20260418T210727
CREATED:20190617T231851Z
LAST-MODIFIED:20190617T231852Z
UID:3367-1561737600-1561748400@stage-co.com
SUMMARY:Entrepreneurship World Cup Finals Türkiye
DESCRIPTION:\n\n\n\n\nThe entrepreneurs who enrolled by subscribing to https://entrepreneurshipworldcup.com/ewc-application/ before end of May will go through an evaluation process. The selected teams will enter the Final Pitch Competition in Turkiye. The winner of the local competition will participate in the final Global round and the 10 winners will do the final Pitch in November in Saudi Arabia. All info here. \nEWC is a multi-tiered competition that encourages individuals along the entrepreneurship spectrum to enter – from those with just an idea to those with existing businesses looking to scale. Any non-venture funded business is eligible. Businesses with existing professional venture investment are not eligible. \nAgenda: \n15.30 Open doors \n16.00 Keynote \n16.30 Pitching starts \n18.00 Announce winner and network \nStage: \n● Idea Stage: Individuals or early stage founder teams with a potential scalable product / service\nidea and some initial revenue models for how it will make money.\n● Early Stage: Startups with a committed founding team and a demonstrable product / service.\nMay or may not be able to show initial traction in terms of user growth and/or revenue.\nTypically\, less than three years old.\n● Growth Stage: Growth companies showing clear\, growing and measurable user / market\ntraction in a large or rapidly expanding market. Growth trajectory must be clear to be eligible.\nOther:\n● Social: GEN proposes a separate competition category for social ventures with a key\ncomponent of its activities the creation of social value in a significant and sustained manner.\nThe project can be a non-profit\, for-profit or hybrid model with revenues or donations of\n$250\,000 or less.\n● Industry: While GEN has no plans to single out industry-specific competition categories at this\ntime\, these may be created to accommodate the wishes of any large prize partners. \nEVALUATION CRITERIA\nGEN will define a judging rubric to be consistently applied across all EWC competitions at every level.\nThat rubric will address the following areas:\n● Distinctive Competence: Does the startup propose a novel\, disruptive or unique concept that\nwill provide it with a competitive advantage?\n● Market Opportunity: Is there a clear market need presented? Does the startup suggest a viable\nway to meet that need? Has the startup assessed competitors and presented a convincing\ncase as to competitive advantage for market share?\n● Management Team: Is the founding team well prepared to develop the startup and positioned\nto manage the risks?\n● Viability: Does the startup have a realistic potential to succeed?\n● Financial Strength: Does the founding team possess the ability to address the financial\nrequirements of the startup?\n● Presentation: Did the team present the startup in a prepared\, logical\, and persuasive manner? \nHigh marks are given to businesses that:\n\n\nAre or can be a good investment.\n\n\nAre scalable.\n\n\nShow unique value propositions and are difficult to copy.\n\n\nGenerate new needs and new markets.\n\n\nPresent a strong overview of the existing market situation.\n\n\nDemonstrate the presence of financial and strategic flair within the team\, thereby combining creative skills with business skills.\n\n\nPresent a good understanding of risks and possibilities.\n\n\nAddress relevant issues regarding intellectual property rights.\n\n\nFor info: patrick@stage-co.com \n\n\n\n\n\n\n\n\n\n\n\n\n
URL:https://stage-co.com/event/entrepreneurship-world-cup-finals-turkiye/
LOCATION:Urla Coworking\, HACIİSA MAH 75.YIL CUMHURİYET CADDESİ NO:5 /2 URLA\, İzmir\, Turkey
CATEGORIES:Event
ATTACH;FMTTYPE=image/jpeg:https://stage-co.com/wp-content/uploads/2019/06/https___cdn.evbuc_.com_images_62048259_78564892327_1_original.jpg
END:VEVENT
END:VCALENDAR