BEGIN:VCALENDAR
VERSION:2.0
PRODID:-//Stage-Co - ECPv4.7.3//NONSGML v1.0//EN
CALSCALE:GREGORIAN
METHOD:PUBLISH
X-WR-CALNAME:Stage-Co
X-ORIGINAL-URL:https://stage-co.com
X-WR-CALDESC:Events for Stage-Co
BEGIN:VEVENT
DTSTART;VALUE=DATE:20170816
DTEND;VALUE=DATE:20170817
DTSTAMP:20260422T114533
CREATED:20180904T123606Z
LAST-MODIFIED:20180904T123606Z
UID:2402-1502841600-1502927999@stage-co.com
SUMMARY:E-Ticaret’e Farklı Bir Bakış Açısı
DESCRIPTION:E-ticarete Farklı Bir Bakış Açısı\nDünyada ve Türkiye’de e-ticaret gün geçtikçe değer kazanıyor ve bir çok insana farklı kariyer yolları sunuyor. 2005’ten bu yana ödeme sistemleri ve e-ticaret alanında sürdürdüğü kariyeriyle Ör\, etkileşimli eğitimiyle katılımcıları hem e-ticaret konusunda farklı açılardan bilgilendirmeyi ve en kritik sorulara yanıt vermeyi hedefliyor. \nİçerik: \nDünyada ve Türkiye’de e-ticaret kavramının ortaya çıkışı\nE-Ticaret pazarlama ve satış teknikleri\nIş modelleri\nÖdeme sistemlerinin rolü\nÖrnek olaylar\nGaye Ör kimdir? \n1980 doğumlu\, Garanti Ödeme Sistemleri\, Bankalararası Kart Merkezi ve PayPal’da ürün ve pazarlama görevlerini yürüten Or\, kariyerine PayU Türkiye’de Pazarlama Direktörü olarak devam etmektedir. Yerel ve uluslararası pazarlama & e-ticaret deneyimi doğrultusunda E-ticaret Türkiye\, Digital Age vb. dergilerde yazı yazan Or\, aynı zamanda girişimlere mentorluk yapmaktadır. \n
URL:https://stage-co.com/event/e-ticarete-farkli-bir-bakis-acisi/
LOCATION:Dome İstanbul
ATTACH;FMTTYPE=image/png:https://stage-co.com/wp-content/uploads/2018/09/workshop-Gaye-cover.png
END:VEVENT
END:VCALENDAR