BEGIN:VCALENDAR
VERSION:2.0
PRODID:-//Stage-Co - ECPv4.7.3//NONSGML v1.0//EN
CALSCALE:GREGORIAN
METHOD:PUBLISH
X-WR-CALNAME:Stage-Co
X-ORIGINAL-URL:https://stage-co.com
X-WR-CALDESC:Events for Stage-Co
BEGIN:VEVENT
DTSTART;TZID=UTC+0:20200229T110000
DTEND;TZID=UTC+0:20200229T170000
DTSTAMP:20260418T221833
CREATED:20200222T203707Z
LAST-MODIFIED:20200222T203709Z
UID:3574-1582974000-1582995600@stage-co.com
SUMMARY:DESIGN THINKING PATRICK BOSTEELS
DESCRIPTION:How would you define the road to success for a product\, service or business idea? We all are in love with our ideas. Ideas are great but are the consumers going to like your product and pay for it? The shortest way to the right idea for an excellent product is Design Thinking. Start from the customer’s need or desire\, define and ideate. Understanding your user’s needs or problems will create solutions\, feasible and viable\, so you can move on to building your Lean Startup. \n
URL:https://stage-co.com/event/design-thinking-patrick-bosteels/
LOCATION:Urla Coworking\, HACIİSA MAH 75.YIL CUMHURİYET CADDESİ NO:5 /2 URLA\, İzmir\, Turkey
CATEGORIES:Event
ATTACH;FMTTYPE=image/jpeg:https://stage-co.com/wp-content/uploads/2020/02/960x540-1-1.jpg
END:VEVENT
END:VCALENDAR