BEGIN:VCALENDAR
VERSION:2.0
PRODID:-//Stage-Co - ECPv4.7.3//NONSGML v1.0//EN
CALSCALE:GREGORIAN
METHOD:PUBLISH
X-WR-CALNAME:Stage-Co
X-ORIGINAL-URL:https://stage-co.com
X-WR-CALDESC:Events for Stage-Co
BEGIN:VEVENT
DTSTART;VALUE=DATE:20140410
DTEND;VALUE=DATE:20140411
DTSTAMP:20260422T100733
CREATED:20180905T104152Z
LAST-MODIFIED:20180905T104152Z
UID:2567-1397088000-1397174399@stage-co.com
SUMMARY:Can You Develop Games in Türkiye?
DESCRIPTION:Developing original games are a challenge of any country. Turkiye is not different but new startups are showing us it is possible. Let’s find out how difficult it is and if it is really feasible. \nCan you develop games in Turkiye?Open doors 17.30h and start 18.00h followed by networking time \nIntroduction by Patrick Bsoteels on “Can you develop games in Turkiye”\n3 speakers who will unveil their secrets:\n– Mildmania will talk about Darklings\, their successful game \n– Erdal Yilmaz will give us a background on Games in Turkiye \n– Kazım Yalçınoğlu\, lecturer and business angel talking about investments in Games\nWe will conclude with some announcements and time for networking. \nThe Place:\nMiddle East Technical University \nG108 at ODTÜ İktisadi İdari Bilimler Fakültesi B Binası \nRegister here for free admission: https://www.eventbrite.com/e/can-you-develop-games-in-turkiye-tickets-11144939815 \n
URL:https://stage-co.com/event/can-you-develop-games-in-turkiye/
LOCATION:G108 at ODTÜ İktisadi İdari Bilimler Fakültesi B Binası – Ankara
ATTACH;FMTTYPE=image/jpeg:https://stage-co.com/wp-content/uploads/2018/09/1233991_627258950658085_38004929_n.jpg
END:VEVENT
END:VCALENDAR