BEGIN:VCALENDAR
VERSION:2.0
PRODID:-//Stage-Co - ECPv4.7.3//NONSGML v1.0//EN
CALSCALE:GREGORIAN
METHOD:PUBLISH
X-WR-CALNAME:Stage-Co
X-ORIGINAL-URL:https://stage-co.com
X-WR-CALDESC:Events for Stage-Co
BEGIN:VEVENT
DTSTART;VALUE=DATE:20140409
DTEND;VALUE=DATE:20140410
DTSTAMP:20260419T113819
CREATED:20180905T104645Z
LAST-MODIFIED:20180905T104645Z
UID:2575-1397001600-1397087999@stage-co.com
SUMMARY:3D Printing everywhere. 3D Printing Eskişehir’de
DESCRIPTION:Some futurists predict that every household will have a 3D Printer at home. Very soon. We will discuss this with some great speakers. \nConfirmed speakers:\n– Introduction by Patrick Bosteels \n-Zeynep Karagöz\, project coordinator of “5 dakika” – an innovative design and execution company lately focusing on 3D Print with www.3dpd.co \n-Tto be announced \nPlace:\nEskişehir Anadolu Üniv\nSosyal Bilimler Enstitüsü Kırmızı Salon \n
URL:https://stage-co.com/event/3d-printing-everywhere-3d-printing-eskisehirde/
LOCATION:Eskişehir Anadolu Üniv Sosyal Bilimler Enstitüsü Kırmızı Salon
ATTACH;FMTTYPE=image/png:https://stage-co.com/wp-content/uploads/2018/09/1526866_685977471452899_844294967_n-1.png
END:VEVENT
END:VCALENDAR